Workbook

Sheet pipe 2
A1: pipe #2 | C1: 2-top-temp | D1: 2-top-light | E1: 2-1cm-temp | F1: 2-1cm-light | G1: 2-5cm-temp | H1: 2-5cm-light | I1: 2-10cm-temp | J1: 2-10cm-light | K1: 2-20cm-temp | L1: 2-20cm-light | M1: 2-30cm-tme | N1: 2-30cm-light | O1: 2-bot-tem
A2: # | B2: Date Time, GMT-07:00
A3: 1 | B3: 39673.497 | C3: 23.004 | D3: 592 | E3: 22.238 | F3: 312.2 | G3: 21.951 | H3: 32.3 | I3: 21.951 | J3: 53.8 | M3: 21.855 | N3: 53.8
A4: 2 | B4: 39673.5 | C4: 22.908 | D4: 473.6 | E4: 22.238 | F4: 279.9 | G4: 22.046 | H4: 32.3 | I4: 22.046 | J4: 53.8 | K4: 21.75 | M4: 21.951 | N4: 43.1 | O4: 21.7
A5: 3 | B5: 39673.503 | C5: 23.004 | D5: 495.1 | E5: 22.238 | F5: 193.8 | G5: 22.142 | H5: 32.3 | I5: 22.142 | J5: 64.6 | K5: 21.92 | M5: 22.046 | N5: 64.6 | O5: 21.87
A6: 4 | B6: 39673.507 | C6: 23.1 | D6: 624.3 | E6: 22.333 | F6: 344.4 | G6: 22.238 | H6: 43.1 | I6: 22.238 | J6: 64.6 | K6: 22.08 | M6: 22.142 | N6: 64.6 | O6: 22.03
A7: 5 | B7: 39673.51 | C7: 24.255 | D7: 14466.8 | E7: 22.717 | F7: 592 | G7: 22.429 | H7: 129.2 | I7: 22.429 | J7: 452.1 | K7: 22.25 | M7: 22.333 | N7: 376.7 | O7: 22.2
A8: 6 | B8: 39673.514 | C8: 25.708 | D8: 1377.8 | E8: 23.388 | F8: 322.9 | G8: 22.717 | H8: 107.6 | I8: 22.812 | J8: 322.9 | K8: 22.42 | M8: 22.717 | N8: 301.4 | O8: 22.37
A9: 7 | B9: 39673.517 | C9: 25.805 | D9: 1377.8 | E9: 23.677 | F9: 269.1 | G9: 23.004 | H9: 64.6 | I9: 23.1 | J9: 301.4 | K9: 22.75 | M9: 23.004 | N9: 161.5 | O9: 22.71
A10: 8 | B10: 39673.521 | C10: 25.319 | D10: 505.9 | E10: 23.677 | F10: 215.3 | G10: 23.292 | H10: 32.3 | I10: 23.292 | J10: 53.8 | K10: 22.92 | M10: 23.196 | N10: 53.8 | O10: 23.04
A11: 9 | B11: 39673.524 | C11: 24.835 | D11: 495.1 | E11: 23.484 | F11: 247.6 | G11: 23.388 | H11: 32.3 | I11: 23.388 | J11: 53.8 | K11: 23.09 | M11: 23.292 | N11: 53.8 | O11: 23.21
A12: 10 | B12: 39673.528 | C12: 24.545 | D12: 1377.8 | E12: 23.388 | F12: 204.5 | G12: 23.484 | H12: 43.1 | I12: 23.388 | J12: 75.3 | K12: 23.09 | M12: 23.292 | N12: 32.3 | O12: 23.21
A13: 11 | B13: 39673.531 | C13: 25.61 | D13: 861.1 | E13: 24.158 | F13: 107.6 | G13: 23.773 | H13: 21.5 | I13: 23.966 | J13: 86.1 | K13: 23.43 | M13: 23.581 | N13: 75.3 | O13: 23.38
A14: 12 | B14: 39673.535 | C14: 32.911 | D14: 85422.8 | E14: 27.37 | F14: 23422.4 | G14: 26.292 | H14: 26178 | I14: 26.977 | J14: 104711.8 | K14: 25.16 | M14: 26.488 | N14: 19977.9 | O14: 24.59
A15: 13 | B15: 39673.538 | C15: 39.163 | D15: 176356.7 | E15: 29.752 | F15: 8266.7 | G15: 29.953 | H15: 2411.1 | I15: 30.963 | J15: 3444.5 | K15: 28.53 | M15: 29.853 | N15: 7233.4 | O15: 26.86
... A2141: 2139 | B2141: 39680.92 | C2141: 19.377 | D2141: 2497.2 | E2141: 18.521 | F2141: 258.3 | G2141: 18.711 | H2141: 1248.6 | I2141: 18.996 | J2141: 904.2 | K2141: 20.59 | M2141: 18.616 | N2141: 215.3 | O2141: 20.54
A2142: 2140 | B2142: 39680.921
A2143: 2141 | B2143: 39680.921

Sheet pipe 4
A1: TUBE 4 | D1: 4-top-ligt | E1: 4-1cm-temp | F1: 4-1cm-light | G1: 4-5cm-temp | H1: 4-5cm-light | I1: 4-10cm-temp | J1: 4-10cm-ligh | K1: 4-20cm-emp | M1: 4-30cm-temp | N1: 4-30cm-light | O1: 4-bot-temp
A2: # | B2: Date Time, GMT-07:00 | C2: 4-top-temp
A3: 1 | B3: 39673.497 | C3: 24.351 | D3: 1205.6 | E3: 22.717 | F3: 731.9 | G3: 22.525 | H3: 570.5 | I3: 22.238 | J3: 484.4 | M3: 22.046 | N3: 161.5
A4: 2 | B4: 39673.5 | C4: 24.255 | D4: 1237.9 | E4: 22.621 | F4: 549 | G4: 22.525 | H4: 549 | I4: 22.238 | J4: 452.1 | K4: 19.39 | M4: 22.046 | N4: 118.4 | O4: 21.72
A5: 3 | B5: 39673.503 | C5: 24.351 | D5: 1377.8 | E5: 22.717 | F5: 581.3 | G5: 22.525 | H5: 592 | I5: 22.238 | J5: 473.6 | K5: 19.39 | M5: 22.142 | N5: 107.6 | O5: 21.88
A6: 4 | B6: 39673.507 | C6: 24.738 | D6: 1367 | E6: 22.812 | F6: 731.9 | G6: 22.717 | H6: 624.3 | I6: 22.333 | J6: 527.4 | K6: 19.39 | M6: 22.238 | N6: 161.5 | O6: 22.05
A7: 5 | B7: 39673.51 | C7: 26.879 | D7: 22044.6 | E7: 23.484 | F7: 4133.4 | G7: 23.388 | H7: 22044.6 | I7: 23.004 | J7: 23422.4 | K7: 19.39 | M7: 22.429 | N7: 387.5 | O7: 22.22
A8: 6 | B8: 39673.514 | C8: 29.352 | D8: 5511.1 | E8: 24.351 | F8: 4822.3 | G8: 24.448 | H8: 6200 | I8: 23.966 | J8: 2066.7 | K8: 19.56 | M8: 22.717 | N8: 387.5 | O8: 22.39
A9: 7 | B9: 39673.517 | C9: 30.356 | D9: 4650 | E9: 24.931 | F9: 3272.2 | G9: 24.931 | H9: 4822.3 | I9: 24.255 | J9: 1722.2 | K9: 20.36 | M9: 23.1 | N9: 204.5 | O9: 22.73
A10: 8 | B10: 39673.521 | C10: 28.754 | D10: 1377.8 | E10: 24.835 | F10: 570.5 | G10: 24.738 | H10: 549 | I10: 24.062 | J10: 495.1 | K10: 20.68 | M10: 23.292 | N10: 107.6 | O10: 22.89
A11: 9 | B11: 39673.524 | C11: 27.468 | D11: 1377.8 | E11: 24.351 | F11: 549 | G11: 24.158 | H11: 570.5 | I11: 23.677 | J11: 473.6 | K11: 21.01 | M11: 23.292 | N11: 96.9 | O11: 23.24
A12: 10 | B12: 39673.528 | C12: 26.781 | D12: 1808.3 | E12: 24.062 | F12: 527.4 | G12: 23.966 | H12: 2669.5 | I12: 23.581 | J12: 538.2 | K12: 21.18 | M12: 23.292 | N12: 64.6 | O12: 23.24
A13: 11 | B13: 39673.531 | C13: 27.862 | D13: 3272.2 | E13: 25.222 | F13: 1894.5 | G13: 25.028 | H13: 2583.4 | I13: 24.545 | J13: 3100 | K13: 21.51 | M13: 23.773 | N13: 64.6 | O13: 23.41
A14: 12 | B14: 39673.535 | C14: 32.188 | D14: 93689.5 | E14: 30.659 | F14: 132267.5 | G14: 29.853 | H14: 77156.1 | I14: 29.252 | J14: 68889.3 | K14: 21.68 | M14: 27.567 | N14: 88178.4 | O14: 23.76
A15: 13 | B15: 39673.538 | C15: 37.274 | D15: 198401.3 | E15: 37.165 | F15: 187379 | G15: 35.328 | H15: 187379 | I15: 35.649 | J15: 187379 | K15: 21.68 | M15: 34.903 | N15: 198401.3 | O15: 26.21
... A2143: 2141 | B2143: 39680.927 | C2143: 19.853 | D2143: 322.9 | E2143: 19.567 | F2143: 96.9 | G2143: 19.282 | H2143: 64.6 | I2143: 19.092 | J2143: 64.6 | K2143: 22.34 | M2143: 19.282 | N2143: 75.3 | O2143: 21.72
A2144: 2142 | B2144: 39680.93 | G2144: 19.187 | H2144: 96.9 | I2144: 19.282 | J2144: 183 | K2144: 22.01 | M2144: 19.282 | N2144: 139.9 | O2144: 21.22
A2145: 2143 | B2145: 39680.93 | K2145: 22.01
K2146: 22.18
K2147: 22.34
K2148: 22.34
K2149: 22.18
K2150: 24.56
K2151: 22.84
K2152: 21.51
K2153: 20.52
K2154: 20.04

Sheet pipe 3
A1: Pipe 3 | B1: 3-5cm-temp | C1: 3-20cm-temp
A3: Date Time
A4: 39673.497 | B4: 21.88 | C4: =LOOKUP(A4,'3-20cm-raw'!A:B) -> 21.82
A5: 39673.538 | B5: 29.12 | C5: =LOOKUP(A5,'3-20cm-raw'!A:B) -> 28.81
A6: 39673.58 | B6: 38.43 | C6: =LOOKUP(A6,'3-20cm-raw'!A:B) -> 38.19
A7: 39673.622 | B7: 27.1 | C7: =LOOKUP(A7,'3-20cm-raw'!A:B) -> 26.99
A8: 39673.663 | B8: 28.38 | C8: =LOOKUP(A8,'3-20cm-raw'!A:B) -> 27.35
A9: 39673.705 | B9: 28.38 | C9: =LOOKUP(A9,'3-20cm-raw'!A:B) -> 26.99
A10: 39673.747 | B10: 27.28 | C10: =LOOKUP(A10,'3-20cm-raw'!A:B) -> 25.59
A11: 39673.788 | B11: 26.57 | C11: =LOOKUP(A11,'3-20cm-raw'!A:B) -> 24.54
A12: 39673.83 | B12: 24.63 | C12: =LOOKUP(A12,'3-20cm-raw'!A:B) -> 23.5
A13: 39673.872 | B13: 22.89 | C13: =LOOKUP(A13,'3-20cm-raw'!A:B) -> 22.15
A14: 39673.913 | B14: 21.55 | C14: =LOOKUP(A14,'3-20cm-raw'!A:B) -> 21.65
A15: 39673.955 | B15: 20.88 | C15: =LOOKUP(A15,'3-20cm-raw'!A:B) -> 20.82
... A182: 39680.913 | B182: 19.08 | C182: =LOOKUP(A182,'3-20cm-raw'!A:B) -> 19.67

Sheet pipe 1
A1: Pipe 1 | B1: 1-1cm-temp | C1: 1-5cm-temp | D1: 1-10cm-temp | E1: 1-20cm-temp | F1: 1-30cm-temp
A2: Date Time
A3: 39673.497 | B3: 22.17 | C3: 21.99 | D3: 22.11 | E3: 22.29 | F3: 22.51
A4: 39673.5 | B4: 22.34 | C4: 22.16 | D4: 22.11 | E4: 22.29 | F4: 31.26
A5: 39673.503 | B5: 22.51 | C5: 22.16 | D5: 22.28 | E5: 22.46 | F5: 27.01
A6: 39673.507 | B6: 22.67 | C6: 22.32 | D6: 22.45 | E6: 22.62 | F6: 26.66
A7: 39673.51 | B7: 22.84 | C7: 22.49 | D7: 22.62 | E7: 22.79 | F7: 27.19
A8: 39673.514 | B8: 23.18 | C8: 22.83 | D8: 22.95 | E8: 23.12 | F8: 27.01
A9: 39673.517 | B9: 23.52 | C9: 23.17 | D9: 23.12 | E9: 23.46 | F9: 25.43
A10: 39673.521 | B10: 23.69 | C10: 23.33 | D10: 23.46 | E10: 23.63 | F10: 23.69
A11: 39673.524 | B11: 23.86 | C11: 23.51 | D11: 23.63 | E11: 23.81 | F11: 22.68
A12: 39673.528 | B12: 24.03 | C12: 23.68 | D12: 23.63 | E12: 23.98 | F12: 22.01
A13: 39673.531 | B13: 24.21 | C13: 23.85 | D13: 24.15 | E13: 24.67 | F13: 21.67
A14: 39673.535 | B14: 29.93 | C14: 31.82 | D14: 31.6 | E14: 31.74 | F14: 21.01
... A181: 39674.115 | B181: 19.69 | C181: 20.01 | D181: 19.96 | E181: 19.98 | F181: 23.01
A182: 39674.118 | B182: 19.69 | C182: 20.01 | D182: 19.96 | E182: 19.98
A183: 39674.122 | B183: 19.53 | C183: 20.01 | D183: 19.8 | E183: 19.98
A184: 39674.125 | B184: 19.53 | C184: 20.01 | D184: 19.8 | E184: 19.98
A185: 39674.128 | B185: 19.53 | C185: 20.01 | D185: 19.8 | E185: 19.98
A186: 39674.132 | B186: 19.53 | C186: 19.85 | D186: 19.8 | E186: 19.82
A187: 39674.135 | B187: 19.53 | C187: 19.85 | D187: 19.8 | E187: 19.82
A188: 39674.139 | B188: 19.53 | C188: 19.85 | D188: 19.8 | E188: 19.82
A189: 39674.142 | B189: 19.53 | C189: 19.85 | D189: 19.8 | E189: 19.82
A190: 39674.146 | B190: 19.53 | C190: 19.85 | D190: 19.63 | E190: 19.82
A191: 39674.149 | B191: 19.53 | C191: 19.85 | D191: 19.63 | E191: 19.82
A192: 39674.153 | B192: 19.53 | C192: 19.85 | D192: 19.63 | E192: 19.82
A193: 39674.156 | B193: 19.37 | C193: 19.85 | D193: 19.63 | E193: 19.82
... A2139: 39680.913 | B2139: 20.34 | C2139: 20.99 | D2139: 21.94 | E2139: 23.12
C2140: 20.66 | D2140: 21.61 | E2140: 22.12

Sheet weather

Sheet 3-20cm-raw
B3: Temperature (*C)
A4: 39673.497 | B4: 21.82
A5: 39673.497 | B5: 21.82
A6: 39673.5 | B6: 21.98
A7: 39673.5 | B7: 21.98
A8: 39673.503 | B8: 21.98
A9: 39673.503 | B9: 22.15
A10: 39673.503 | B10: 22.15
A11: 39673.507 | B11: 22.15
A12: 39673.507 | B12: 22.32
A13: 39673.51 | B13: 22.49
A14: 39673.51 | B14: 22.66
A15: 39673.514 | B15: 22.82
... A5057: 39680.924 | B5057: 19.02
